BEGIN:VCALENDAR
VERSION:2.0
PRODID:-//Sabre//Sabre VObject 4.5.8//EN
CALSCALE:GREGORIAN
BEGIN:VEVENT
UID:criticalmass-one-kaiserslautern-1624633200
DTSTAMP:20260424T192644Z
SUMMARY:Lautrer Spazierfahrt (Critical Mass Kaiserslautern) 25.06.2021
DTSTART;TZID=Europe/Berlin:20210625T170000
DTEND;TZID=Europe/Berlin:20210625T190000
LOCATION:Stiftsplatz
GEO:49.444294;7.772355
URL;VALUE=URI:https://criticalmass.in/kaiserslautern/2021-06-25
END:VEVENT
END:VCALENDAR
