BEGIN:VCALENDAR
VERSION:2.0
PRODID:-//Sabre//Sabre VObject 4.5.8//EN
CALSCALE:GREGORIAN
BEGIN:VEVENT
UID:criticalmass-one-kaiserslautern-1617980400
DTSTAMP:20260424T105041Z
SUMMARY:Lautrer Spazierfahrt (Critical Mass Kaiserslautern) 09.04.2021
DTSTART;TZID=Europe/Berlin:20210409T170000
DTEND;TZID=Europe/Berlin:20210409T190000
LOCATION:Stiftsplatz
GEO:49.444294;7.772312
URL;VALUE=URI:https://criticalmass.in/kaiserslautern/2021-04-09
END:VEVENT
END:VCALENDAR
