BEGIN:VCALENDAR
VERSION:2.0
PRODID:-//Sabre//Sabre VObject 4.5.8//EN
CALSCALE:GREGORIAN
BEGIN:VEVENT
UID:criticalmass-one-kaiserslautern-1607702400
DTSTAMP:20260425T195820Z
SUMMARY:Lautrer Spazierfahrt (Critical Mass Kaiserslautern) 11.12.2020
DTSTART;TZID=Europe/Berlin:20201211T170000
DTEND;TZID=Europe/Berlin:20201211T190000
LOCATION:Stiftsplatz
GEO:49.444294;7.772312
URL;VALUE=URI:https://criticalmass.in/kaiserslautern/2020-12-11
END:VEVENT
END:VCALENDAR
