BEGIN:VCALENDAR
VERSION:2.0
PRODID:-//Sabre//Sabre VObject 4.5.8//EN
CALSCALE:GREGORIAN
BEGIN:VEVENT
UID:criticalmass-one-kaiserslautern-1599836400
DTSTAMP:20260424T092331Z
SUMMARY:Spazierfahrt Kaiserslautern 11.09.2020
DTSTART;TZID=Europe/Berlin:20200911T170000
DTEND;TZID=Europe/Berlin:20200911T190000
LOCATION:Stiftsplatz
URL;VALUE=URI:https://criticalmass.in/kaiserslautern/2020-09-11
END:VEVENT
END:VCALENDAR
