BEGIN:VCALENDAR
VERSION:2.0
PRODID:-//Sabre//Sabre VObject 4.5.8//EN
CALSCALE:GREGORIAN
BEGIN:VEVENT
UID:criticalmass-one-kaiserslautern-1588950000
DTSTAMP:20260424T092143Z
SUMMARY:Spazierfahrt Kaiserslautern 08.05.2020
DTSTART;TZID=Europe/Berlin:20200508T170000
DTEND;TZID=Europe/Berlin:20200508T190000
LOCATION:Stiftsplatz
URL;VALUE=URI:https://criticalmass.in/kaiserslautern/2020-05-08
END:VEVENT
END:VCALENDAR
