BEGIN:VCALENDAR
VERSION:2.0
PRODID:-//Sabre//Sabre VObject 4.5.8//EN
CALSCALE:GREGORIAN
BEGIN:VEVENT
UID:criticalmass-one-kaiserslautern-1584115200
DTSTAMP:20260423T120237Z
SUMMARY:Spazierfahrt Kaiserslautern 13.03.2020
DTSTART;TZID=Europe/Berlin:20200313T170000
DTEND;TZID=Europe/Berlin:20200313T190000
LOCATION:Stiftsplatz
URL;VALUE=URI:https://criticalmass.in/kaiserslautern/2020-03-13
END:VEVENT
END:VCALENDAR
