BEGIN:VCALENDAR
VERSION:2.0
PRODID:-//Sabre//Sabre VObject 4.5.8//EN
CALSCALE:GREGORIAN
BEGIN:VEVENT
UID:criticalmass-one-kaiserslautern-1578672000
DTSTAMP:20260423T113228Z
SUMMARY:Spazierfahrt Kaiserslautern 10.01.2020
DTSTART;TZID=Europe/Berlin:20200110T170000
DTEND;TZID=Europe/Berlin:20200110T190000
LOCATION:Stiftsplatz
URL;VALUE=URI:https://criticalmass.in/kaiserslautern/2020-01-10
END:VEVENT
END:VCALENDAR
