BEGIN:VCALENDAR
VERSION:2.0
PRODID:-//Sabre//Sabre VObject 4.5.8//EN
CALSCALE:GREGORIAN
BEGIN:VEVENT
UID:criticalmass-one-kaiserslautern-1573228800
DTSTAMP:20260422T081435Z
SUMMARY:Spazierfahrt Kaiserslautern
DTSTART;TZID=Europe/Berlin:20191108T170000
DTEND;TZID=Europe/Berlin:20191108T190000
LOCATION:Stiftsplatz
GEO:49.442780;7.772055
URL;VALUE=URI:https://criticalmass.in/kaiserslautern/2019-11-08
END:VEVENT
END:VCALENDAR
