BEGIN:VCALENDAR
VERSION:2.0
PRODID:-//Sabre//Sabre VObject 4.5.8//EN
CALSCALE:GREGORIAN
BEGIN:VEVENT
UID:criticalmass-one-jena-1772557200
DTSTAMP:20260424T192550Z
SUMMARY:Critical Mass Jena 03.03.2026
DTSTART;TZID=Europe/Berlin:20260303T180000
DTEND;TZID=Europe/Berlin:20260303T200000
LOCATION:Holzmarkt
GEO:50.926903;11.585272
URL;VALUE=URI:https://criticalmass.in/jena/2026-03-03
END:VEVENT
END:VCALENDAR
