BEGIN:VCALENDAR
VERSION:2.0
PRODID:-//Sabre//Sabre VObject 4.5.8//EN
CALSCALE:GREGORIAN
BEGIN:VEVENT
UID:criticalmass-one-iowa-city-1769864400
DTSTAMP:20260421T085201Z
SUMMARY:Alex Pretti Memorial Ride — Iowa City Riders
DESCRIPTION:Meet at the Iowa City Bike Library at 1 p.m. for a 1:30 p.m. ro
 ll-out. 
DTSTART;TZID=America/Chicago:20260131T070000
DTEND;TZID=America/Chicago:20260131T090000
LOCATION:Iowa City Bike Library\, Iowa City
GEO:41.646816;-91.529463
URL;VALUE=URI:https://criticalmass.in/iowa-city/alex-pretti-memorial-ride-i
 owa-city-2026-01-31
END:VEVENT
END:VCALENDAR
