BEGIN:VCALENDAR
VERSION:2.0
PRODID:-//Sabre//Sabre VObject 4.5.8//EN
CALSCALE:GREGORIAN
BEGIN:VEVENT
UID:criticalmass-one-innsbruck-1659110400
DTSTAMP:20260425T165108Z
SUMMARY:Critical Mass Innsbruck 29.07.2022
DTSTART;TZID=Europe/Vienna:20220729T180000
DTEND;TZID=Europe/Vienna:20220729T200000
LOCATION:Annasäule\, Maria Theresienstraße
URL;VALUE=URI:https://criticalmass.in/innsbruck/2022-07-29
END:VEVENT
END:VCALENDAR
