BEGIN:VCALENDAR
VERSION:2.0
PRODID:-//Sabre//Sabre VObject 4.5.8//EN
CALSCALE:GREGORIAN
BEGIN:VEVENT
UID:criticalmass-one-innsbruck-1648227600
DTSTAMP:20260426T022005Z
SUMMARY:Critical Mass Innsbruck 25.03.2022
DTSTART;TZID=Europe/Vienna:20220325T180000
DTEND;TZID=Europe/Vienna:20220325T200000
LOCATION:Annasäule\, Maria Theresienstraße
URL;VALUE=URI:https://criticalmass.in/innsbruck/2022-03-25
END:VEVENT
END:VCALENDAR
