BEGIN:VCALENDAR
VERSION:2.0
PRODID:-//Sabre//Sabre VObject 4.5.8//EN
CALSCALE:GREGORIAN
BEGIN:VEVENT
UID:criticalmass-one-innsbruck-1624636800
DTSTAMP:20260425T164840Z
SUMMARY:Critical Mass Innsbruck 25.06.2021
DTSTART;TZID=Europe/Vienna:20210625T180000
DTEND;TZID=Europe/Vienna:20210625T200000
LOCATION:Annasäule\, Maria Theresienstraße
URL;VALUE=URI:https://criticalmass.in/innsbruck/2021-06-25
END:VEVENT
END:VCALENDAR
