BEGIN:VCALENDAR
VERSION:2.0
PRODID:-//Sabre//Sabre VObject 4.5.8//EN
CALSCALE:GREGORIAN
BEGIN:VEVENT
UID:criticalmass-one-innsbruck-1614358800
DTSTAMP:20260425T164839Z
SUMMARY:Critical Mass Innsbruck 26.02.2021
DTSTART;TZID=Europe/Vienna:20210226T180000
DTEND;TZID=Europe/Vienna:20210226T200000
LOCATION:Annasäule\, Maria Theresienstraße
URL;VALUE=URI:https://criticalmass.in/innsbruck/2021-02-26
END:VEVENT
END:VCALENDAR
