BEGIN:VCALENDAR
VERSION:2.0
PRODID:-//Sabre//Sabre VObject 4.5.8//EN
CALSCALE:GREGORIAN
BEGIN:VEVENT
UID:criticalmass-one-innsbruck-1611939600
DTSTAMP:20260424T134758Z
SUMMARY:Critical Mass Innsbruck 29.01.2021
DESCRIPTION:Covid-Pause
DTSTART;TZID=Europe/Vienna:20210129T180000
DTEND;TZID=Europe/Vienna:20210129T200000
LOCATION:Annasäule\, Maria Theresienstraße
URL;VALUE=URI:https://criticalmass.in/innsbruck/2021-01-29
END:VEVENT
END:VCALENDAR
