BEGIN:VCALENDAR
VERSION:2.0
PRODID:-//Sabre//Sabre VObject 4.5.8//EN
CALSCALE:GREGORIAN
BEGIN:VEVENT
UID:criticalmass-one-innsbruck-1608915600
DTSTAMP:20260425T031054Z
SUMMARY:Critical Mass Innsbruck 25.12.2020
DESCRIPTION:Covid-Pause
DTSTART;TZID=Europe/Vienna:20201225T180000
DTEND;TZID=Europe/Vienna:20201225T200000
LOCATION:Annasäule\, Maria Theresienstraße
URL;VALUE=URI:https://criticalmass.in/innsbruck/2020-12-25
END:VEVENT
END:VCALENDAR
