BEGIN:VCALENDAR
VERSION:2.0
PRODID:-//Sabre//Sabre VObject 4.5.8//EN
CALSCALE:GREGORIAN
BEGIN:VEVENT
UID:criticalmass-one-innsbruck-1604077200
DTSTAMP:20260423T125350Z
SUMMARY:Critical Mass Innsbruck 30.10.2020
DTSTART;TZID=Europe/Vienna:20201030T180000
DTEND;TZID=Europe/Vienna:20201030T200000
LOCATION:Annasäule\, Maria Theresienstraße
URL;VALUE=URI:https://criticalmass.in/innsbruck/2020-10-30
END:VEVENT
END:VCALENDAR
