BEGIN:VCALENDAR
VERSION:2.0
PRODID:-//Sabre//Sabre VObject 4.5.8//EN
CALSCALE:GREGORIAN
BEGIN:VEVENT
UID:criticalmass-one-innsbruck-1601049600
DTSTAMP:20260422T104941Z
SUMMARY:Critical Mass Innsbruck 25.09.2020
DTSTART;TZID=Europe/Vienna:20200925T180000
DTEND;TZID=Europe/Vienna:20200925T200000
LOCATION:Annasäule\, Maria Theresienstraße
URL;VALUE=URI:https://criticalmass.in/innsbruck/2020-09-25
END:VEVENT
END:VCALENDAR
