BEGIN:VCALENDAR
VERSION:2.0
PRODID:-//Sabre//Sabre VObject 4.5.8//EN
CALSCALE:GREGORIAN
BEGIN:VEVENT
UID:criticalmass-one-innsbruck-1593187200
DTSTAMP:20260422T113846Z
SUMMARY:Critical Mass Innsbruck 26.06.2020
DTSTART;TZID=Europe/Vienna:20200626T180000
DTEND;TZID=Europe/Vienna:20200626T200000
LOCATION:Annasäule\, Maria Theresienstraße
URL;VALUE=URI:https://criticalmass.in/innsbruck/2020-06-26
END:VEVENT
END:VCALENDAR
