BEGIN:VCALENDAR
VERSION:2.0
PRODID:-//Sabre//Sabre VObject 4.5.8//EN
CALSCALE:GREGORIAN
BEGIN:VEVENT
UID:criticalmass-one-ingolstadt-1714910400
DTSTAMP:20260426T011740Z
SUMMARY:Kidical Mass Ingolstadt 05.05.2024
DTSTART;TZID=Europe/Berlin:20240505T140000
DTEND;TZID=Europe/Berlin:20240505T160000
LOCATION:Ingolstadt Rathausplatz
GEO:48.762566;11.425052
URL;VALUE=URI:https://criticalmass.in/ingolstadt/kidical-mass-ingolstadt-ma
 i-2024
END:VEVENT
END:VCALENDAR
