BEGIN:VCALENDAR
VERSION:2.0
PRODID:-//Sabre//Sabre VObject 4.5.8//EN
CALSCALE:GREGORIAN
BEGIN:VEVENT
UID:criticalmass-one-ingolstadt-1683460800
DTSTAMP:20260425T144816Z
SUMMARY:Kidical Mass Ingolstadt 07.05.2023
DTSTART;TZID=Europe/Berlin:20230507T140000
DTEND;TZID=Europe/Berlin:20230507T160000
LOCATION:Klenze Park\, Brückenkopf 4  am Exerzierhaus
GEO:48.760972;11.432853
URL;VALUE=URI:https://criticalmass.in/ingolstadt/kidical-mass-ingolstadt-ma
 i-2023
END:VEVENT
END:VCALENDAR
