BEGIN:VCALENDAR
VERSION:2.0
PRODID:-//Sabre//Sabre VObject 4.5.8//EN
CALSCALE:GREGORIAN
BEGIN:VEVENT
UID:criticalmass-one-ingolstadt-1727456400
DTSTAMP:20260425T213347Z
SUMMARY:Critical Mass Ingolstadt 27.09.2024
DTSTART;TZID=Europe/Berlin:20240927T190000
DTEND;TZID=Europe/Berlin:20240927T210000
LOCATION:Rathausplatz
GEO:48.762752;11.425223
URL;VALUE=URI:https://criticalmass.in/ingolstadt/2024-09-27
END:VEVENT
END:VCALENDAR
