BEGIN:VCALENDAR
VERSION:2.0
PRODID:-//Sabre//Sabre VObject 4.5.8//EN
CALSCALE:GREGORIAN
BEGIN:VEVENT
UID:criticalmass-one-ingolstadt-1717174800
DTSTAMP:20260425T132818Z
SUMMARY:Critical Mass Ingolstadt 31.05.2024
DTSTART;TZID=Europe/Berlin:20240531T190000
DTEND;TZID=Europe/Berlin:20240531T210000
LOCATION:Rathausplatz
GEO:48.762752;11.425223
URL;VALUE=URI:https://criticalmass.in/ingolstadt/2024-05-31
END:VEVENT
END:VCALENDAR
