BEGIN:VCALENDAR
VERSION:2.0
PRODID:-//Sabre//Sabre VObject 4.5.8//EN
CALSCALE:GREGORIAN
BEGIN:VEVENT
UID:criticalmass-one-ingolstadt-1690563600
DTSTAMP:20260425T232241Z
SUMMARY:Critical Mass Ingolstadt 28.07.2023
DTSTART;TZID=Europe/Berlin:20230728T190000
DTEND;TZID=Europe/Berlin:20230728T210000
LOCATION:Rathausplatz
GEO:48.762752;11.425223
URL;VALUE=URI:https://criticalmass.in/ingolstadt/2023-07-28
END:VEVENT
END:VCALENDAR
