BEGIN:VCALENDAR
VERSION:2.0
PRODID:-//Sabre//Sabre VObject 4.5.8//EN
CALSCALE:GREGORIAN
BEGIN:VEVENT
UID:criticalmass-one-ingolstadt-1659114000
DTSTAMP:20260425T164809Z
SUMMARY:Critical Mass Ingolstadt 29.07.2022
DTSTART;TZID=Europe/Berlin:20220729T190000
DTEND;TZID=Europe/Berlin:20220729T210000
LOCATION:Rathausplatz
GEO:48.762752;11.425223
URL;VALUE=URI:https://criticalmass.in/ingolstadt/2022-07-29
END:VEVENT
END:VCALENDAR
