BEGIN:VCALENDAR
VERSION:2.0
PRODID:-//Sabre//Sabre VObject 4.5.8//EN
CALSCALE:GREGORIAN
BEGIN:VEVENT
UID:criticalmass-one-ingolstadt-1640973600
DTSTAMP:20260425T164808Z
SUMMARY:Critical Mass Ingolstadt 31.12.2021
DTSTART;TZID=Europe/Berlin:20211231T190000
DTEND;TZID=Europe/Berlin:20211231T210000
LOCATION:Rathausplatz
GEO:48.762752;11.425223
URL;VALUE=URI:https://criticalmass.in/ingolstadt/2021-12-31
END:VEVENT
END:VCALENDAR
