BEGIN:VCALENDAR
VERSION:2.0
PRODID:-//Sabre//Sabre VObject 4.5.8//EN
CALSCALE:GREGORIAN
BEGIN:VEVENT
UID:criticalmass-one-ingolstadt-1624640400
DTSTAMP:20260425T174613Z
SUMMARY:Critical Mass Ingolstadt 25.06.2021
DTSTART;TZID=Europe/Berlin:20210625T190000
DTEND;TZID=Europe/Berlin:20210625T210000
LOCATION:Rathausplatz
GEO:48.762752;11.425223
URL;VALUE=URI:https://criticalmass.in/ingolstadt/2021-06-25
END:VEVENT
END:VCALENDAR
