BEGIN:VCALENDAR
VERSION:2.0
PRODID:-//Sabre//Sabre VObject 4.5.8//EN
CALSCALE:GREGORIAN
BEGIN:VEVENT
UID:criticalmass-one-ingolstadt-1614362400
DTSTAMP:20260425T232201Z
SUMMARY:Critical Mass Ingolstadt 26.02.2021
DTSTART;TZID=Europe/Berlin:20210226T190000
DTEND;TZID=Europe/Berlin:20210226T210000
LOCATION:Rathausplatz
GEO:48.762752;11.425223
URL;VALUE=URI:https://criticalmass.in/ingolstadt/2021-02-26
END:VEVENT
END:VCALENDAR
