BEGIN:VCALENDAR
VERSION:2.0
PRODID:-//Sabre//Sabre VObject 4.5.8//EN
CALSCALE:GREGORIAN
BEGIN:VEVENT
UID:criticalmass-one-ingolstadt-1604080800
DTSTAMP:20260425T153000Z
SUMMARY:Critical Mass Ingolstadt 30.10.2020
DTSTART;TZID=Europe/Berlin:20201030T190000
DTEND;TZID=Europe/Berlin:20201030T210000
LOCATION:Rathausplatz
GEO:48.762752;11.425223
URL;VALUE=URI:https://criticalmass.in/ingolstadt/2020-10-30
END:VEVENT
END:VCALENDAR
