BEGIN:VCALENDAR
VERSION:2.0
PRODID:-//Sabre//Sabre VObject 4.5.8//EN
CALSCALE:GREGORIAN
BEGIN:VEVENT
UID:criticalmass-one-ida-county-1769864400
DTSTAMP:20260421T152344Z
SUMMARY:Alex Pretti Memorial Ride — Alex W
DESCRIPTION:Meet @ 1:00\, Roll @ 1:30 p.m.
DTSTART;TZID=America/Chicago:20260131T070000
DTEND;TZID=America/Chicago:20260131T090000
LOCATION:Ida County
GEO:42.357268;-95.478384
URL;VALUE=URI:https://criticalmass.in/ida-county/alex-pretti-memorial-ride-
 ida-county-2026-01-31
END:VEVENT
END:VCALENDAR
