BEGIN:VCALENDAR
VERSION:2.0
PRODID:-//Sabre//Sabre VObject 4.5.8//EN
CALSCALE:GREGORIAN
BEGIN:VEVENT
UID:criticalmass-one-ibbenburen-1761928200
DTSTAMP:20260423T113655Z
SUMMARY:Radeln für Ibbenbüren 31.10.2025
DTSTART;TZID=Europe/Berlin:20251031T173000
DTEND;TZID=Europe/Berlin:20251031T193000
LOCATION:Auf dem Parkplatz hinter den Bürgerhaus
GEO:52.274355;7.721136
URL;VALUE=URI:https://criticalmass.in/ibbenburen/2025-10-31
END:VEVENT
END:VCALENDAR
