BEGIN:VCALENDAR
VERSION:2.0
PRODID:-//Sabre//Sabre VObject 4.5.8//EN
CALSCALE:GREGORIAN
BEGIN:VEVENT
UID:criticalmass-one-ibbenburen-1748619000
DTSTAMP:20260422T105451Z
SUMMARY:Radeln für Ibbenbüren 30.05.2025
DTSTART;TZID=Europe/Berlin:20250530T173000
DTEND;TZID=Europe/Berlin:20250530T193000
LOCATION:Auf dem Parkplatz hinter den Bürgerhaus
GEO:52.274355;7.721136
URL;VALUE=URI:https://criticalmass.in/ibbenburen/2025-05-30
END:VEVENT
END:VCALENDAR
