BEGIN:VCALENDAR
VERSION:2.0
PRODID:-//Sabre//Sabre VObject 4.5.8//EN
CALSCALE:GREGORIAN
BEGIN:VEVENT
UID:criticalmass-one-ibbenburen-1738341000
DTSTAMP:20260423T101328Z
SUMMARY:Radeln für Ibbenbüren 31.01.2025
DTSTART;TZID=Europe/Berlin:20250131T173000
DTEND;TZID=Europe/Berlin:20250131T193000
LOCATION:Auf dem Parkplatz hinter den Bürgerhaus
GEO:52.274355;7.721136
URL;VALUE=URI:https://criticalmass.in/ibbenburen/2025-01-31
END:VEVENT
END:VCALENDAR
