BEGIN:VCALENDAR
VERSION:2.0
PRODID:-//Sabre//Sabre VObject 4.5.8//EN
CALSCALE:GREGORIAN
BEGIN:VEVENT
UID:criticalmass-one-ibbenburen-1706286600
DTSTAMP:20260423T101335Z
SUMMARY:Radeln für Ibbenbüren 26.01.2024
DTSTART;TZID=Europe/Berlin:20240126T173000
DTEND;TZID=Europe/Berlin:20240126T193000
LOCATION:Auf dem Parkplatz hinter den Bürgerhaus
GEO:52.274355;7.721136
URL;VALUE=URI:https://criticalmass.in/ibbenburen/2024-01-26
END:VEVENT
END:VCALENDAR
