BEGIN:VCALENDAR
VERSION:2.0
PRODID:-//Sabre//Sabre VObject 4.5.8//EN
CALSCALE:GREGORIAN
BEGIN:VEVENT
UID:criticalmass-one-ibbenburen-1692977400
DTSTAMP:20260423T125528Z
SUMMARY:Radeln für Ibbenbüren 25.08.2023
DTSTART;TZID=Europe/Berlin:20230825T173000
DTEND;TZID=Europe/Berlin:20230825T193000
LOCATION:Auf dem Parkplatz hinter den Bürgerhaus
GEO:52.274355;7.721136
URL;VALUE=URI:https://criticalmass.in/ibbenburen/2023-08-25
END:VEVENT
END:VCALENDAR
