BEGIN:VCALENDAR
VERSION:2.0
PRODID:-//Sabre//Sabre VObject 4.5.8//EN
CALSCALE:GREGORIAN
BEGIN:VEVENT
UID:criticalmass-one-hohen-neuendorf-1683464400
DTSTAMP:20260420T201230Z
SUMMARY:Kidical Mass Hohen Neuendorf 07.05.2023
DTSTART;TZID=Europe/Berlin:20230507T150000
DTEND;TZID=Europe/Berlin:20230507T170000
LOCATION:Waldstraße Höhe Waldgrundschule
GEO:52.672112;13.284011
URL;VALUE=URI:https://criticalmass.in/hohen-neuendorf/kidical-mass-hohen-ne
 uendorf-mai-2023
END:VEVENT
END:VCALENDAR
