BEGIN:VCALENDAR
VERSION:2.0
PRODID:-//Sabre//Sabre VObject 4.5.8//EN
CALSCALE:GREGORIAN
BEGIN:VEVENT
UID:criticalmass-one-hohen-neuendorf-1652533200
DTSTAMP:20260420T201235Z
SUMMARY:Kidical Mass Hohen Neuendorf 14.05.2022
DTSTART;TZID=Europe/Berlin:20220514T150000
DTEND;TZID=Europe/Berlin:20220514T170000
LOCATION:Ahorn-Grundschule Bergfelde
GEO:52.668744;13.317457
URL;VALUE=URI:https://criticalmass.in/hohen-neuendorf/kidical-mass-hohen-ne
 uendorf-mai-2022
END:VEVENT
END:VCALENDAR
