BEGIN:VCALENDAR
VERSION:2.0
PRODID:-//Sabre//Sabre VObject 4.5.8//EN
CALSCALE:GREGORIAN
BEGIN:VEVENT
UID:criticalmass-one-hofheim-1604138400
DTSTAMP:20260426T021858Z
SUMMARY:Critical Mass Hofheim 31.10.2020
DTSTART;TZID=Europe/Berlin:20201031T110000
DTEND;TZID=Europe/Berlin:20201031T130000
LOCATION:Stadthalle/Rathaus Vorplatz
GEO:50.085523;8.447456
URL;VALUE=URI:https://criticalmass.in/hofheim/2020-10-31
END:VEVENT
END:VCALENDAR
