BEGIN:VCALENDAR
VERSION:2.0
PRODID:-//Sabre//Sabre VObject 4.5.8//EN
CALSCALE:GREGORIAN
BEGIN:VEVENT
UID:criticalmass-one-hofheim-1582970400
DTSTAMP:20260422T120816Z
SUMMARY:Critical Mass Hofheim 29.02.2020
DTSTART;TZID=Europe/Berlin:20200229T110000
DTEND;TZID=Europe/Berlin:20200229T130000
LOCATION:Stadthalle/Rathaus Vorplatz
GEO:50.085523;8.447456
URL;VALUE=URI:https://criticalmass.in/hofheim/2020-02-29
END:VEVENT
END:VCALENDAR
