BEGIN:VCALENDAR
VERSION:2.0
PRODID:-//Sabre//Sabre VObject 4.5.8//EN
CALSCALE:GREGORIAN
BEGIN:VEVENT
UID:criticalmass-one-hof-1772209800
DTSTAMP:20260422T224236Z
SUMMARY:Critical Mass Hof 27.02.2026
DTSTART;TZID=Europe/Berlin:20260227T173000
DTEND;TZID=Europe/Berlin:20260227T193000
LOCATION:Kugelbrunnen
GEO:50.318744;11.916271
URL;VALUE=URI:https://criticalmass.in/hof/2026-02-27
END:VEVENT
END:VCALENDAR
