BEGIN:VCALENDAR
VERSION:2.0
PRODID:-//Sabre//Sabre VObject 4.5.8//EN
CALSCALE:GREGORIAN
BEGIN:VEVENT
UID:criticalmass-one-hof-1758900600
DTSTAMP:20260423T232904Z
SUMMARY:Critical Mass Hof 26.09.2025
DTSTART;TZID=Europe/Berlin:20250926T173000
DTEND;TZID=Europe/Berlin:20250926T193000
LOCATION:Kugelbrunnen
GEO:50.318744;11.916271
URL;VALUE=URI:https://criticalmass.in/hof/2025-09-26
END:VEVENT
END:VCALENDAR
