BEGIN:VCALENDAR
VERSION:2.0
PRODID:-//Sabre//Sabre VObject 4.5.8//EN
CALSCALE:GREGORIAN
BEGIN:VEVENT
UID:criticalmass-one-hof-1740760200
DTSTAMP:20260424T180613Z
SUMMARY:Critical Mass Hof 28.02.2025
DTSTART;TZID=Europe/Berlin:20250228T173000
DTEND;TZID=Europe/Berlin:20250228T193000
LOCATION:Kugelbrunnen
GEO:50.318744;11.916271
URL;VALUE=URI:https://criticalmass.in/hof/2025-02-28
END:VEVENT
END:VCALENDAR
