BEGIN:VCALENDAR
VERSION:2.0
PRODID:-//Sabre//Sabre VObject 4.5.8//EN
CALSCALE:GREGORIAN
BEGIN:VEVENT
UID:criticalmass-one-hof-1735317000
DTSTAMP:20260423T225259Z
SUMMARY:Critical Mass Hof 27.12.2024
DTSTART;TZID=Europe/Berlin:20241227T173000
DTEND;TZID=Europe/Berlin:20241227T193000
LOCATION:Kugelbrunnen
GEO:50.318744;11.916271
URL;VALUE=URI:https://criticalmass.in/hof/2024-12-27
END:VEVENT
END:VCALENDAR
