BEGIN:VCALENDAR
VERSION:2.0
PRODID:-//Sabre//Sabre VObject 4.5.8//EN
CALSCALE:GREGORIAN
BEGIN:VEVENT
UID:criticalmass-one-hof-1714145400
DTSTAMP:20260424T063017Z
SUMMARY:Critical Mass Hof 26.04.2024
DTSTART;TZID=Europe/Berlin:20240426T173000
DTEND;TZID=Europe/Berlin:20240426T193000
LOCATION:Kugelbrunnen
GEO:50.318744;11.916271
URL;VALUE=URI:https://criticalmass.in/hof/2024-04-26
END:VEVENT
END:VCALENDAR
