BEGIN:VCALENDAR
VERSION:2.0
PRODID:-//Sabre//Sabre VObject 4.5.8//EN
CALSCALE:GREGORIAN
BEGIN:VEVENT
UID:criticalmass-one-hof-1698420600
DTSTAMP:20260423T143438Z
SUMMARY:Critical Mass Hof 27.10.2023
DTSTART;TZID=Europe/Berlin:20231027T173000
DTEND;TZID=Europe/Berlin:20231027T193000
LOCATION:Kugelbrunnen
GEO:50.318744;11.916271
URL;VALUE=URI:https://criticalmass.in/hof/2023-10-27
END:VEVENT
END:VCALENDAR
