BEGIN:VCALENDAR
VERSION:2.0
PRODID:-//Sabre//Sabre VObject 4.5.8//EN
CALSCALE:GREGORIAN
BEGIN:VEVENT
UID:criticalmass-one-hof-1696001400
DTSTAMP:20260425T002002Z
SUMMARY:Critical Mass Hof 29.09.2023
DTSTART;TZID=Europe/Berlin:20230929T173000
DTEND;TZID=Europe/Berlin:20230929T193000
LOCATION:Kugelbrunnen
GEO:50.318744;11.916271
URL;VALUE=URI:https://criticalmass.in/hof/2023-09-29
END:VEVENT
END:VCALENDAR
