BEGIN:VCALENDAR
VERSION:2.0
PRODID:-//Sabre//Sabre VObject 4.5.8//EN
CALSCALE:GREGORIAN
BEGIN:VEVENT
UID:criticalmass-one-hof-1669393800
DTSTAMP:20260425T152425Z
SUMMARY:Critical Mass Hof 25.11.2022
DTSTART;TZID=Europe/Berlin:20221125T173000
DTEND;TZID=Europe/Berlin:20221125T193000
LOCATION:Kugelbrunnen
GEO:50.318744;11.916271
URL;VALUE=URI:https://criticalmass.in/hof/2022-11-25
END:VEVENT
END:VCALENDAR
