BEGIN:VCALENDAR
VERSION:2.0
PRODID:-//Sabre//Sabre VObject 4.5.8//EN
CALSCALE:GREGORIAN
BEGIN:VEVENT
UID:criticalmass-one-hof-1666971000
DTSTAMP:20260425T032935Z
SUMMARY:Critical Mass Hof 28.10.2022
DTSTART;TZID=Europe/Berlin:20221028T173000
DTEND;TZID=Europe/Berlin:20221028T193000
LOCATION:Kugelbrunnen
GEO:50.318744;11.916271
URL;VALUE=URI:https://criticalmass.in/hof/2022-10-28
END:VEVENT
END:VCALENDAR
