BEGIN:VCALENDAR
VERSION:2.0
PRODID:-//Sabre//Sabre VObject 4.5.8//EN
CALSCALE:GREGORIAN
BEGIN:VEVENT
UID:criticalmass-one-hof-1659108600
DTSTAMP:20260425T032935Z
SUMMARY:Critical Mass Hof 29.07.2022
DTSTART;TZID=Europe/Berlin:20220729T173000
DTEND;TZID=Europe/Berlin:20220729T193000
LOCATION:Kugelbrunnen
GEO:50.318744;11.916271
URL;VALUE=URI:https://criticalmass.in/hof/2022-07-29
END:VEVENT
END:VCALENDAR
