BEGIN:VCALENDAR
VERSION:2.0
PRODID:-//Sabre//Sabre VObject 4.5.8//EN
CALSCALE:GREGORIAN
BEGIN:VEVENT
UID:criticalmass-one-hof-1656084600
DTSTAMP:20260424T155100Z
SUMMARY:Critical Mass Hof 24.06.2022
DTSTART;TZID=Europe/Berlin:20220624T173000
DTEND;TZID=Europe/Berlin:20220624T193000
LOCATION:Kugelbrunnen
GEO:50.318744;11.916271
URL;VALUE=URI:https://criticalmass.in/hof/2022-06-24
END:VEVENT
END:VCALENDAR
